BEGIN:VCALENDAR
VERSION:2.0
PRODID:-//IGCS - ECPv6.15.20//NONSGML v1.0//EN
CALSCALE:GREGORIAN
METHOD:PUBLISH
X-WR-CALNAME:IGCS
X-ORIGINAL-URL:https://igcs.org
X-WR-CALDESC:Events for IGCS
REFRESH-INTERVAL;VALUE=DURATION:PT1H
X-Robots-Tag:noindex
X-PUBLISHED-TTL:PT1H
BEGIN:VTIMEZONE
TZID:America/Chicago
BEGIN:DAYLIGHT
TZOFFSETFROM:-0600
TZOFFSETTO:-0500
TZNAME:CDT
DTSTART:20200308T080000
END:DAYLIGHT
BEGIN:STANDARD
TZOFFSETFROM:-0500
TZOFFSETTO:-0600
TZNAME:CST
DTSTART:20201101T070000
END:STANDARD
BEGIN:DAYLIGHT
TZOFFSETFROM:-0600
TZOFFSETTO:-0500
TZNAME:CDT
DTSTART:20210314T080000
END:DAYLIGHT
BEGIN:STANDARD
TZOFFSETFROM:-0500
TZOFFSETTO:-0600
TZNAME:CST
DTSTART:20211107T070000
END:STANDARD
BEGIN:DAYLIGHT
TZOFFSETFROM:-0600
TZOFFSETTO:-0500
TZNAME:CDT
DTSTART:20220313T080000
END:DAYLIGHT
BEGIN:STANDARD
TZOFFSETFROM:-0500
TZOFFSETTO:-0600
TZNAME:CST
DTSTART:20221106T070000
END:STANDARD
END:VTIMEZONE
BEGIN:VEVENT
DTSTART;TZID=America/Chicago:20210924T080000
DTEND;TZID=America/Chicago:20210925T170000
DTSTAMP:20260422T160423
CREATED:20210910T162024Z
LAST-MODIFIED:20210916T221852Z
UID:47855-1632470400-1632589200@igcs.org
SUMMARY:24th Supportive & Palliative Care Clinical and Research Symposium
DESCRIPTION:Presented as a Virtual / Webcast – Live Web Streaming Events:   \nWe are happy to announce that the 24th Supportive & Palliative Care Clinical and Research Symposium. The symposium will be Virtual on both days.  \nHere are just a few of state-of-the-art topics presented by leading Palliative and Hospice experts: \n\nCachexia\nCoordinating Transition of Care\nDelirium\nPediatric Palliative Care\nManaging Uncontrolled Cancer Pain\nWound Care\nAnticipatory Grief \n\n\n\n\nThe virtual/live stream of the 24th Supportive & Palliative Care Clinical and Research Symposium takes place September 24-25\, 2021. This option includes a live stream of the educational event as it is taking place (start to finish)\, plus you will have online access to the PowerPoint Slides\, Video Recordings of presentations\, (all materials provided will be online). AMA PRA Category 1 Credits™ will be awarded for the live stream events.\n\nTARGET AUDIENCE\nThis program should be of interest to palliative care or hospice physicians\, oncologists\, internal medicine physicians\, family practice physicians\, psychiatrists\, and/or anesthesiologists. Other professionals including hospice\, nursing\, psychology\, chaplaincy\, ethics\, and/or sociology. \nACCREDITATION/CREDIT DESIGNATION \nThe University of Texas MD Anderson Cancer Center is accredited by the Accreditation Council for Continuing Medical Education (ACCME) to provide continuing medical education for physicians. \n  \nCredits awarded for the 24th Supportive & Palliative Care Clinical and Research Symposium\n15.00AMA PRA Category 1 Credits™\, 15.00 Non-Physician Attendance Hours\, 15.00 General Attendance Hours\,\n15.00 ANCC Contact Hours\, 9.25 Medical Ethics/Professional Responsibility Hours \n  \nNo Educational Credits will be awarded for the online materials-only option. See Registration Information\, below\, for instructions and applicable fees. \n\nETHICS \nThe sessions marked with “*” have been designated by The University of Texas MD Anderson Cancer Center for AMA PRA Category 1 Credits™ in medical ethics and/or professional responsibility.\n\n\nRegister today for this exciting educational opportunity!\n\nhttps://mdanderson.cloud-cme.com/PalliativeSymposium2021
URL:https://igcs.org/event/24th-supportive-palliative-care-clinical-and-research-symposium/
LOCATION:Online Meeting
CATEGORIES:Global Events
END:VEVENT
END:VCALENDAR