BEGIN:VCALENDAR
VERSION:2.0
PRODID:-//IGCS - ECPv6.15.20//NONSGML v1.0//EN
CALSCALE:GREGORIAN
METHOD:PUBLISH
X-ORIGINAL-URL:https://igcs.org
X-WR-CALDESC:Events for IGCS
REFRESH-INTERVAL;VALUE=DURATION:PT1H
X-Robots-Tag:noindex
X-PUBLISHED-TTL:PT1H
BEGIN:VTIMEZONE
TZID:America/Chicago
BEGIN:DAYLIGHT
TZOFFSETFROM:-0600
TZOFFSETTO:-0500
TZNAME:CDT
DTSTART:20200308T080000
END:DAYLIGHT
BEGIN:STANDARD
TZOFFSETFROM:-0500
TZOFFSETTO:-0600
TZNAME:CST
DTSTART:20201101T070000
END:STANDARD
BEGIN:DAYLIGHT
TZOFFSETFROM:-0600
TZOFFSETTO:-0500
TZNAME:CDT
DTSTART:20210314T080000
END:DAYLIGHT
BEGIN:STANDARD
TZOFFSETFROM:-0500
TZOFFSETTO:-0600
TZNAME:CST
DTSTART:20211107T070000
END:STANDARD
BEGIN:DAYLIGHT
TZOFFSETFROM:-0600
TZOFFSETTO:-0500
TZNAME:CDT
DTSTART:20220313T080000
END:DAYLIGHT
BEGIN:STANDARD
TZOFFSETFROM:-0500
TZOFFSETTO:-0600
TZNAME:CST
DTSTART:20221106T070000
END:STANDARD
END:VTIMEZONE
BEGIN:VEVENT
DTSTART;VALUE=DATE:20211014
DTEND;VALUE=DATE:20211018
DTSTAMP:20260422T141342
CREATED:20210716T001009Z
LAST-MODIFIED:20210824T204345Z
UID:47435-1634169600-1634515199@igcs.org
SUMMARY:ICS 2021 Melbourne Online
DESCRIPTION:51st ICS Annual Meeting (ICS 2021 Online) \nOctober 14-17\, 2021 \nICS 2021 will be a 4 day interactive online event with live-streamed content for 12 hours a day. The ICS 2021 scientific programme includes covering the latest research and practice on pelvic floor disorders\, urinary incontinence\, pelvic prolapse and LUTS. \nRegistered participants will be able to also take part in different workshops and webinars as well as gain access to the International Consultation on Incontinence. \nEarly bird savings are available until July 27th. \nLearn more here: ics.org/2021 \nExplore the programme: https://www.ics.org/2021/programme
URL:https://igcs.org/event/ics-2021-melbourne-online/
LOCATION:Online Meeting
CATEGORIES:Global Events
END:VEVENT
END:VCALENDAR