BEGIN:VCALENDAR
VERSION:2.0
PRODID:-//IGCS - ECPv6.15.20//NONSGML v1.0//EN
CALSCALE:GREGORIAN
METHOD:PUBLISH
X-ORIGINAL-URL:https://igcs.org
X-WR-CALDESC:Events for IGCS
REFRESH-INTERVAL;VALUE=DURATION:PT1H
X-Robots-Tag:noindex
X-PUBLISHED-TTL:PT1H
BEGIN:VTIMEZONE
TZID:America/Chicago
BEGIN:DAYLIGHT
TZOFFSETFROM:-0600
TZOFFSETTO:-0500
TZNAME:CDT
DTSTART:20230312T080000
END:DAYLIGHT
BEGIN:STANDARD
TZOFFSETFROM:-0500
TZOFFSETTO:-0600
TZNAME:CST
DTSTART:20231105T070000
END:STANDARD
BEGIN:DAYLIGHT
TZOFFSETFROM:-0600
TZOFFSETTO:-0500
TZNAME:CDT
DTSTART:20240310T080000
END:DAYLIGHT
BEGIN:STANDARD
TZOFFSETFROM:-0500
TZOFFSETTO:-0600
TZNAME:CST
DTSTART:20241103T070000
END:STANDARD
BEGIN:DAYLIGHT
TZOFFSETFROM:-0600
TZOFFSETTO:-0500
TZNAME:CDT
DTSTART:20250309T080000
END:DAYLIGHT
BEGIN:STANDARD
TZOFFSETFROM:-0500
TZOFFSETTO:-0600
TZNAME:CST
DTSTART:20251102T070000
END:STANDARD
END:VTIMEZONE
BEGIN:VEVENT
DTSTART;VALUE=DATE:20240418
DTEND;VALUE=DATE:20240421
DTSTAMP:20260422T171058
CREATED:20240206T181611Z
LAST-MODIFIED:20240206T181611Z
UID:67290-1713398400-1713657599@igcs.org
SUMMARY:1oth Edition of the SEUD Annual Congress
DESCRIPTION:The 10th edition of the SEUD Annual Congress\, will be held in Geneva\, Switzerland from April 18th to 20th 2024. \n 
URL:https://igcs.org/event/1oth-edition-of-the-seud-annual-congress/
CATEGORIES:Global Events
ATTACH;FMTTYPE=image/jpeg:https://igcs.org/wp-content/uploads/2024/02/SEUD-2024-STD.jpg
END:VEVENT
END:VCALENDAR