BEGIN:VCALENDAR
VERSION:2.0
PRODID:-//IGCS - ECPv6.15.20//NONSGML v1.0//EN
CALSCALE:GREGORIAN
METHOD:PUBLISH
X-ORIGINAL-URL:https://igcs.org
X-WR-CALDESC:Events for IGCS
REFRESH-INTERVAL;VALUE=DURATION:PT1H
X-Robots-Tag:noindex
X-PUBLISHED-TTL:PT1H
BEGIN:VTIMEZONE
TZID:America/Chicago
BEGIN:DAYLIGHT
TZOFFSETFROM:-0600
TZOFFSETTO:-0500
TZNAME:CDT
DTSTART:20240310T080000
END:DAYLIGHT
BEGIN:STANDARD
TZOFFSETFROM:-0500
TZOFFSETTO:-0600
TZNAME:CST
DTSTART:20241103T070000
END:STANDARD
BEGIN:DAYLIGHT
TZOFFSETFROM:-0600
TZOFFSETTO:-0500
TZNAME:CDT
DTSTART:20250309T080000
END:DAYLIGHT
BEGIN:STANDARD
TZOFFSETFROM:-0500
TZOFFSETTO:-0600
TZNAME:CST
DTSTART:20251102T070000
END:STANDARD
BEGIN:DAYLIGHT
TZOFFSETFROM:-0600
TZOFFSETTO:-0500
TZNAME:CDT
DTSTART:20260308T080000
END:DAYLIGHT
BEGIN:STANDARD
TZOFFSETFROM:-0500
TZOFFSETTO:-0600
TZNAME:CST
DTSTART:20261101T070000
END:STANDARD
END:VTIMEZONE
BEGIN:VEVENT
DTSTART;TZID=America/Chicago:20250522T140000
DTEND;TZID=America/Chicago:20250522T153000
DTSTAMP:20260422T114452
CREATED:20250515T123456Z
LAST-MODIFIED:20250515T123520Z
UID:71125-1747922400-1747927800@igcs.org
SUMMARY:FIGO Webinar: Cutting-edge 360° management of ovarian cancer
DESCRIPTION:Ovarian cancer remains one of the most challenging gynaecologic cancers to manage\, often due to late-stage diagnosis and complex treatment pathways. This webinar led by the FIGO Committee on Women’s Cancer will describe a cutting-edge 360° approach to ovarian cancer care – covering diagnostics\, surgical and management strategies and care in low-resource settings.   \nDate: Thursday 22 May 2025  \nTime: 14:00-15:30 UTC  \nLanguage: English with simultaneous translation in French and Spanish \nRegister here: https://figo.ooo/4350gDh 
URL:https://igcs.org/event/figo-webinar-cutting-edge-360-management-of-ovarian-cancer/
ATTACH;FMTTYPE=image/png:https://igcs.org/wp-content/uploads/2025/05/2205EN-scaled.png
END:VEVENT
END:VCALENDAR