BEGIN:VCALENDAR
VERSION:2.0
PRODID:-//IGCS - ECPv6.15.20//NONSGML v1.0//EN
CALSCALE:GREGORIAN
METHOD:PUBLISH
X-ORIGINAL-URL:https://igcs.org
X-WR-CALDESC:Events for IGCS
REFRESH-INTERVAL;VALUE=DURATION:PT1H
X-Robots-Tag:noindex
X-PUBLISHED-TTL:PT1H
BEGIN:VTIMEZONE
TZID:America/Chicago
BEGIN:DAYLIGHT
TZOFFSETFROM:-0600
TZOFFSETTO:-0500
TZNAME:CDT
DTSTART:20250309T080000
END:DAYLIGHT
BEGIN:STANDARD
TZOFFSETFROM:-0500
TZOFFSETTO:-0600
TZNAME:CST
DTSTART:20251102T070000
END:STANDARD
BEGIN:DAYLIGHT
TZOFFSETFROM:-0600
TZOFFSETTO:-0500
TZNAME:CDT
DTSTART:20260308T080000
END:DAYLIGHT
BEGIN:STANDARD
TZOFFSETFROM:-0500
TZOFFSETTO:-0600
TZNAME:CST
DTSTART:20261101T070000
END:STANDARD
BEGIN:DAYLIGHT
TZOFFSETFROM:-0600
TZOFFSETTO:-0500
TZNAME:CDT
DTSTART:20270314T080000
END:DAYLIGHT
BEGIN:STANDARD
TZOFFSETFROM:-0500
TZOFFSETTO:-0600
TZNAME:CST
DTSTART:20271107T070000
END:STANDARD
END:VTIMEZONE
BEGIN:VEVENT
DTSTART;VALUE=DATE:20260223
DTEND;VALUE=DATE:20260226
DTSTAMP:20260421T114409
CREATED:20260211T155719Z
LAST-MODIFIED:20260211T155719Z
UID:72808-1771804800-1772063999@igcs.org
SUMMARY:LEIPZIG SCHOOL OF RADICAL PELVIC SURGERY 2026 - Block A
DESCRIPTION:Block A: FEBRUARY 23-25\, 2026 \nhttps://www.ukl-live.de/leipzig-school/ \nBlock A: TMMR + iLND\nFebruary 23-25\, 2026 \n\nPrinciples and practice of current surgical treatment of cervix carcinoma\nIntroduction into the ontogenetic cancer field model\nOntogenetic anatomy of the female pelvis with special consideration of the uterine cervix\nCancer fields of cervical carcinoma\, ontogenetic staging (oT)\nPathomechanisms of lymphatic metastasis\nCancer field model of regional tumor spread\nDevelopment of the human lymphatic system: the abdominopelvic lymph territories in the female\nRegional metastatic pattern of cervical carcinoma\, ontogenetic nodal staging (oN)\nTMMR & tLND: principles\, step-by-step technique\, results\, comparison with conventional surgical treatment\n\n 
URL:https://igcs.org/event/leipzig-school-of-radical-pelvic-surgery-2026-block-a/
END:VEVENT
END:VCALENDAR