BEGIN:VCALENDAR
VERSION:2.0
PRODID:-//IGCS - ECPv6.15.20//NONSGML v1.0//EN
CALSCALE:GREGORIAN
METHOD:PUBLISH
X-WR-CALNAME:IGCS
X-ORIGINAL-URL:https://igcs.org
X-WR-CALDESC:Events for IGCS
REFRESH-INTERVAL;VALUE=DURATION:PT1H
X-Robots-Tag:noindex
X-PUBLISHED-TTL:PT1H
BEGIN:VTIMEZONE
TZID:America/Chicago
BEGIN:DAYLIGHT
TZOFFSETFROM:-0600
TZOFFSETTO:-0500
TZNAME:CDT
DTSTART:20250309T080000
END:DAYLIGHT
BEGIN:STANDARD
TZOFFSETFROM:-0500
TZOFFSETTO:-0600
TZNAME:CST
DTSTART:20251102T070000
END:STANDARD
BEGIN:DAYLIGHT
TZOFFSETFROM:-0600
TZOFFSETTO:-0500
TZNAME:CDT
DTSTART:20260308T080000
END:DAYLIGHT
BEGIN:STANDARD
TZOFFSETFROM:-0500
TZOFFSETTO:-0600
TZNAME:CST
DTSTART:20261101T070000
END:STANDARD
BEGIN:DAYLIGHT
TZOFFSETFROM:-0600
TZOFFSETTO:-0500
TZNAME:CDT
DTSTART:20270314T080000
END:DAYLIGHT
BEGIN:STANDARD
TZOFFSETFROM:-0500
TZOFFSETTO:-0600
TZNAME:CST
DTSTART:20271107T070000
END:STANDARD
END:VTIMEZONE
BEGIN:VEVENT
DTSTART;VALUE=DATE:20260306
DTEND;VALUE=DATE:20260307
DTSTAMP:20260421T114043
CREATED:20260218T192752Z
LAST-MODIFIED:20260218T192752Z
UID:72861-1772755200-1772841599@igcs.org
SUMMARY:AGOI Webinar March 2026
DESCRIPTION:Precision to Palliation: Contemporary Management of Advanced Gynecologic Cancers in a Multidisciplinary Framework \nMarch 6\, 2026\n1:30 – 3:00 PM UTC \nAGOI Webinar Registration \nThis collaborative webinar is being co-hosted by the Association of Gyn Oncologists of India\, (AGOI) an IGCS Strategic Alliance Partner\, and the IGCS. It will explore the clinical continuum of advanced gynecologic cancers\, from the implementation of precision medicine to the nuances of palliative care. Through a multidisciplinary tumor board featuring case presentations from India’s leading oncology centers\, participants will engage with expert faculty to solve complex management dilemmas. The session concludes with a strategic overview of how IGCS partnerships can accelerate the careers of early-career oncologists in the region.
URL:https://igcs.org/event/agoi-webinar-march-2026/
LOCATION:Zoom Video Conference\, United States
CATEGORIES:IGCS Collaborative Events
END:VEVENT
END:VCALENDAR