BEGIN:VCALENDAR
VERSION:2.0
PRODID:-//IGCS - ECPv6.15.20//NONSGML v1.0//EN
CALSCALE:GREGORIAN
METHOD:PUBLISH
X-ORIGINAL-URL:https://igcs.org
X-WR-CALDESC:Events for IGCS
REFRESH-INTERVAL;VALUE=DURATION:PT1H
X-Robots-Tag:noindex
X-PUBLISHED-TTL:PT1H
BEGIN:VTIMEZONE
TZID:America/Chicago
BEGIN:DAYLIGHT
TZOFFSETFROM:-0600
TZOFFSETTO:-0500
TZNAME:CDT
DTSTART:20220313T080000
END:DAYLIGHT
BEGIN:STANDARD
TZOFFSETFROM:-0500
TZOFFSETTO:-0600
TZNAME:CST
DTSTART:20221106T070000
END:STANDARD
BEGIN:DAYLIGHT
TZOFFSETFROM:-0600
TZOFFSETTO:-0500
TZNAME:CDT
DTSTART:20230312T080000
END:DAYLIGHT
BEGIN:STANDARD
TZOFFSETFROM:-0500
TZOFFSETTO:-0600
TZNAME:CST
DTSTART:20231105T070000
END:STANDARD
BEGIN:DAYLIGHT
TZOFFSETFROM:-0600
TZOFFSETTO:-0500
TZNAME:CDT
DTSTART:20240310T080000
END:DAYLIGHT
BEGIN:STANDARD
TZOFFSETFROM:-0500
TZOFFSETTO:-0600
TZNAME:CST
DTSTART:20241103T070000
END:STANDARD
END:VTIMEZONE
BEGIN:VEVENT
DTSTART;TZID=America/Chicago:20231019T110000
DTEND;TZID=America/Chicago:20231019T120000
DTSTAMP:20260421T133431
CREATED:20231003T164848Z
LAST-MODIFIED:20231004T141011Z
UID:66392-1697713200-1697716800@igcs.org
SUMMARY:October Journal Club
DESCRIPTION:Join us! October Journal Club \nThis session will explore the lead article in our October issue\, Sentinel lymph node detection in early-stage ovarian cancer: a systematic review and meta-analysis\, along with its accompanying editorial . \n  \nWhen? Thursday\, October 19\, from 11:00-11:45 AM CDT (6:00 PM CEST).\nRegistration is not required. To join the October IJGC chat\, simply use this Zoom link to join the journal club at the scheduled time.\nThe featured discussants are Dr. Nuria Agusti\, lead author of the article\, who will be joined by IJGC Editor-in-Chief Dr. Pedro Ramirez.. We strongly encourage you to join Drs. Agusti\, Ramirez—along with your colleagues from around the world—as they assess the article’s findings\, evaluate their clinical significance\, and consider their potential role in gynecological oncology.
URL:https://igcs.org/event/october-journal-club-2/
CATEGORIES:Global Events,IGCS Collaborative Events,IGCS Hosted Events
ATTACH;FMTTYPE=image/png:https://igcs.org/wp-content/uploads/2023/10/PPT-Graphic.png
END:VEVENT
END:VCALENDAR