BEGIN:VCALENDAR
VERSION:2.0
PRODID:-//IGCS - ECPv6.15.20//NONSGML v1.0//EN
CALSCALE:GREGORIAN
METHOD:PUBLISH
X-WR-CALNAME:IGCS
X-ORIGINAL-URL:https://igcs.org
X-WR-CALDESC:Events for IGCS
REFRESH-INTERVAL;VALUE=DURATION:PT1H
X-Robots-Tag:noindex
X-PUBLISHED-TTL:PT1H
BEGIN:VTIMEZONE
TZID:UTC
BEGIN:STANDARD
TZOFFSETFROM:+0000
TZOFFSETTO:+0000
TZNAME:UTC
DTSTART:20230101T000000
END:STANDARD
END:VTIMEZONE
BEGIN:VEVENT
DTSTART;TZID=UTC:20240521T210000
DTEND;TZID=UTC:20240521T213000
DTSTAMP:20260421T074349
CREATED:20240521T151507Z
LAST-MODIFIED:20240521T151507Z
UID:68052-1716325200-1716327000@igcs.org
SUMMARY:Emerging Data in platinum resistance advanced ovarian cancer
DESCRIPTION:Tuesday\, May 21\, 2024\n9:00 PM UTC\nsee all time zones \n  \nRegister Here
URL:https://igcs.org/event/emerging-data-in-platinum-resistance-advanced-ovarian-cancer/
LOCATION:Zoom Video Conference\, United States
CATEGORIES:Global Events,IGCS Hosted Events
ATTACH;FMTTYPE=image/png:https://igcs.org/wp-content/uploads/2024/05/1.png
END:VEVENT
END:VCALENDAR