BEGIN:VCALENDAR
VERSION:2.0
PRODID:-//IGCS - ECPv6.15.20//NONSGML v1.0//EN
CALSCALE:GREGORIAN
METHOD:PUBLISH
X-WR-CALNAME:IGCS
X-ORIGINAL-URL:https://igcs.org
X-WR-CALDESC:Events for IGCS
REFRESH-INTERVAL;VALUE=DURATION:PT1H
X-Robots-Tag:noindex
X-PUBLISHED-TTL:PT1H
BEGIN:VTIMEZONE
TZID:UTC
BEGIN:STANDARD
TZOFFSETFROM:+0000
TZOFFSETTO:+0000
TZNAME:UTC
DTSTART:20230101T000000
END:STANDARD
END:VTIMEZONE
BEGIN:VEVENT
DTSTART;TZID=UTC:20240626T220000
DTEND;TZID=UTC:20240626T230000
DTSTAMP:20260421T040236
CREATED:20240604T165803Z
LAST-MODIFIED:20240604T174004Z
UID:68196-1719439200-1719442800@igcs.org
SUMMARY:Uterine Mesenchymal Neoplasms: New and Evolving Entities
DESCRIPTION:Wednesday\, June 26\, 2024\n10:00 PM UTC \nIn this session\, we will review new and evolving uterine mesenchymal entities as well as biomarker and molecular assays to aid in these diagnoses. Additionally\, appropriate diagnostic terminology will be covered in the absence of accessible immunohistochemistry and molecular testing. \nRegister Here.
URL:https://igcs.org/event/uterine-mesenchymal-neoplasms-new-and-evolving-entities/
LOCATION:Zoom Video Conference\, United States
CATEGORIES:Global Events,IGCS Hosted Events
ATTACH;FMTTYPE=image/png:https://igcs.org/wp-content/uploads/2024/06/47d045ed-e817-4eef-9430-62b55f41293d.png
END:VEVENT
END:VCALENDAR