BEGIN:VCALENDAR
VERSION:2.0
PRODID:-//IGCS - ECPv6.15.20//NONSGML v1.0//EN
CALSCALE:GREGORIAN
METHOD:PUBLISH
X-ORIGINAL-URL:https://igcs.org
X-WR-CALDESC:Events for IGCS
REFRESH-INTERVAL;VALUE=DURATION:PT1H
X-Robots-Tag:noindex
X-PUBLISHED-TTL:PT1H
BEGIN:VTIMEZONE
TZID:America/Chicago
BEGIN:DAYLIGHT
TZOFFSETFROM:-0600
TZOFFSETTO:-0500
TZNAME:CDT
DTSTART:20210314T080000
END:DAYLIGHT
BEGIN:STANDARD
TZOFFSETFROM:-0500
TZOFFSETTO:-0600
TZNAME:CST
DTSTART:20211107T070000
END:STANDARD
BEGIN:DAYLIGHT
TZOFFSETFROM:-0600
TZOFFSETTO:-0500
TZNAME:CDT
DTSTART:20220313T080000
END:DAYLIGHT
BEGIN:STANDARD
TZOFFSETFROM:-0500
TZOFFSETTO:-0600
TZNAME:CST
DTSTART:20221106T070000
END:STANDARD
BEGIN:DAYLIGHT
TZOFFSETFROM:-0600
TZOFFSETTO:-0500
TZNAME:CDT
DTSTART:20230312T080000
END:DAYLIGHT
BEGIN:STANDARD
TZOFFSETFROM:-0500
TZOFFSETTO:-0600
TZNAME:CST
DTSTART:20231105T070000
END:STANDARD
END:VTIMEZONE
BEGIN:VEVENT
DTSTART;VALUE=DATE:20221020
DTEND;VALUE=DATE:20221021
DTSTAMP:20260421T151210
CREATED:20221014T154718Z
LAST-MODIFIED:20221014T155103Z
UID:62829-1666224000-1666310399@igcs.org
SUMMARY:October Journal Club
DESCRIPTION:Join us! October Journal Club\nThis session will explore the lead article in our October issue\, Adjuvant treatment after radical surgery for cervical cancer with intermediate risk factors: is it time for an update?\, along with its accompanying editorial. \nWhen? Thursday\, October 20\, from 11:00-11:45 AM CDT (6:00 PM CEST). \nRegistration is not required. To join the October IJGC chat\, simply use this Zoom link to join the journal club at the scheduled time. \nThe featured discussants are Dr. David Viveros-Carreño\,  author of the article\, who will be joined by IJGC Editor-in-Chief Dr. Pedro Ramirez and Social Media Editor Dr. Ane Gerda Zahl Eriksson. We strongly encourage you to join  Drs. Viveros\, Ramirez\, and Eriksson—along with your colleagues from around the world—as they assess the article’s findings\, evaluate their clinical significance\, and consider their potential role in gynecological oncology.
URL:https://igcs.org/event/october-journal-club/
LOCATION:Zoom Video Conference\, United States
CATEGORIES:IGCS Collaborative Events
ATTACH;FMTTYPE=image/png:https://igcs.org/wp-content/uploads/2022/08/Zoom-Journal-Club-with-Border-1000x650-3.png
END:VEVENT
END:VCALENDAR