BEGIN:VCALENDAR
VERSION:2.0
PRODID:-//IGCS - ECPv6.15.20//NONSGML v1.0//EN
CALSCALE:GREGORIAN
METHOD:PUBLISH
X-ORIGINAL-URL:https://igcs.org
X-WR-CALDESC:Events for IGCS
REFRESH-INTERVAL;VALUE=DURATION:PT1H
X-Robots-Tag:noindex
X-PUBLISHED-TTL:PT1H
BEGIN:VTIMEZONE
TZID:UTC
BEGIN:STANDARD
TZOFFSETFROM:+0000
TZOFFSETTO:+0000
TZNAME:UTC
DTSTART:20220101T000000
END:STANDARD
END:VTIMEZONE
BEGIN:VTIMEZONE
TZID:America/Chicago
BEGIN:DAYLIGHT
TZOFFSETFROM:-0600
TZOFFSETTO:-0500
TZNAME:CDT
DTSTART:20220313T080000
END:DAYLIGHT
BEGIN:STANDARD
TZOFFSETFROM:-0500
TZOFFSETTO:-0600
TZNAME:CST
DTSTART:20221106T070000
END:STANDARD
BEGIN:DAYLIGHT
TZOFFSETFROM:-0600
TZOFFSETTO:-0500
TZNAME:CDT
DTSTART:20230312T080000
END:DAYLIGHT
BEGIN:STANDARD
TZOFFSETFROM:-0500
TZOFFSETTO:-0600
TZNAME:CST
DTSTART:20231105T070000
END:STANDARD
BEGIN:DAYLIGHT
TZOFFSETFROM:-0600
TZOFFSETTO:-0500
TZNAME:CDT
DTSTART:20240310T080000
END:DAYLIGHT
BEGIN:STANDARD
TZOFFSETFROM:-0500
TZOFFSETTO:-0600
TZNAME:CST
DTSTART:20241103T070000
END:STANDARD
END:VTIMEZONE
BEGIN:VTIMEZONE
TZID:America/Chicago
BEGIN:DAYLIGHT
TZOFFSETFROM:-0600
TZOFFSETTO:-0500
TZNAME:CDT
DTSTART:20220313T080000
END:DAYLIGHT
BEGIN:STANDARD
TZOFFSETFROM:-0500
TZOFFSETTO:-0600
TZNAME:CST
DTSTART:20221106T070000
END:STANDARD
BEGIN:DAYLIGHT
TZOFFSETFROM:-0600
TZOFFSETTO:-0500
TZNAME:CDT
DTSTART:20230312T080000
END:DAYLIGHT
BEGIN:STANDARD
TZOFFSETFROM:-0500
TZOFFSETTO:-0600
TZNAME:CST
DTSTART:20231105T070000
END:STANDARD
BEGIN:DAYLIGHT
TZOFFSETFROM:-0600
TZOFFSETTO:-0500
TZNAME:CDT
DTSTART:20240310T080000
END:DAYLIGHT
BEGIN:STANDARD
TZOFFSETFROM:-0500
TZOFFSETTO:-0600
TZNAME:CST
DTSTART:20241103T070000
END:STANDARD
END:VTIMEZONE
BEGIN:VEVENT
DTSTART;TZID=UTC:20230411T120000
DTEND;TZID=UTC:20230411T123000
DTSTAMP:20260421T060545
CREATED:20230403T155703Z
LAST-MODIFIED:20230403T155751Z
UID:64791-1681214400-1681216200@igcs.org
SUMMARY:New Options in Platinum Resistant Ovarian Cancer
DESCRIPTION:New Options in Platinum Resistant Ovarian Cancer \nTuesday\, April 11\, 2023\n12:00 PM UTC\nDuration approximately 30 minutes \nRegister Here\nFaculty \nDavid O’Malley\, MD\nOhio State University Comprehensive Cancer Center-James Cancer Hospital &\nSolove Research Institute Professor\nDirector\, Division of Gynecologic Oncology\nCo-Director\, Gyn Oncology Phase I Program\nUSA \nWendel Naumann\, MD\nModerator\nDirector of Minimally Invasive Surgery in Gynecologic Oncology\nCarolinas Medical Center Associate Medical Director of Clinical Trials\nAssociate Medical Director of Clinical Trials\nLevine Cancer Institute\, Atrium Health\nUSA
URL:https://igcs.org/event/new-options-in-platinum-resistant-ovarian-cancer/
LOCATION:Zoom Video Conference\, United States
CATEGORIES:Global Events,IGCS Hosted Events
ATTACH;FMTTYPE=image/jpeg:https://igcs.org/wp-content/uploads/2023/01/Advances-and-Updates-Featured-Announcement-800.jpg
END:VEVENT
BEGIN:VEVENT
DTSTART;TZID=America/Chicago:20230413T110000
DTEND;TZID=America/Chicago:20230413T120000
DTSTAMP:20260421T060545
CREATED:20230404T153746Z
LAST-MODIFIED:20230404T153915Z
UID:64818-1681383600-1681387200@igcs.org
SUMMARY:April Journal Club
DESCRIPTION:
URL:https://igcs.org/event/april-journal-club/
LOCATION:Zoom Video Conference\, United States
CATEGORIES:Global Events,IGCS Hosted Events
ATTACH;FMTTYPE=image/png:https://igcs.org/wp-content/uploads/2023/04/Zoom-Journal-Club-with-Border-1000x650-1.png
END:VEVENT
BEGIN:VEVENT
DTSTART;VALUE=DATE:20230426
DTEND;VALUE=DATE:20230429
DTSTAMP:20260421T060545
CREATED:20221220T140614Z
LAST-MODIFIED:20230403T160141Z
UID:63427-1682467200-1682726399@igcs.org
SUMMARY:Eurasian Summit: Modern Approach in Management of Gynecological Tumors
DESCRIPTION:Dear IGCS Members and Friends\, \nThe International Gynecologic Cancer Society (IGCS) in partnership with the Kazakh Institute of Oncology and Radiology (KazIOR)\, the Kazakhstan Cancer Society (KazCS) and the American Eurasian Cancer Alliance (AECA) is pleased to invite you to the upcoming Eurasian Summit: Modern Approach in Management of Gynecological Tumors. \nThe three-day summit will be held April 26-28\, 2023\, in Almaty\, Kazakhstan. Attendees can participate in-person or livestream the sessions online. The sessions will be presented in English and Russian with simultaneous translation between both languages. There is no cost to register. \nThe Summit will gather a robust group of international faculty from nearly 20 countries representing major regional centers\, leading cancer facilities in the United States and Europe as well as public health organizations. \nThe Program \nOn day one (April 26) the summit offers a practical workshop on the diagnoses\, screening\, and treatment of preinvasive cervical disease. Day two (April 27) will include education on cervical cancer\, endometrial cancer\, uterine sarcoma\, radiation oncology\, and pathology. On the third day (April 28)\, we’ll discuss rare gynecological tumors\, gestational trophoblastic disease\, ovarian cancer\, and palliative care. A focused Eurasian session will assemble leaders representing Central Asia\, the Caucasus region\, and Central and Eastern Europe to present the latest updates in gynecologic oncology screening and treatment programs for their respective county. \nCervical Cancer Elimination Roundtable \nWe will also host a roundtable session with representatives from several organizations (listed below) to discuss the global strategy to eliminate cervical cancer. This roundtable is sure to be illuminating and allow for the exchange of ideas to further our united efforts in this area. \n\nAmerican Eurasian Cancer Alliance (AECA)\nEuropean Society of Medical Oncology (ESMO)\nInternational Agency of Cancer Research (IARC)\nInternational Gynecologic Cancer Society (IGCS)\nUnited Nations Population Fund (UNFPA)\nWorld Health Organization (WHO)\nWorldwide Hospice Palliative Care Alliance (WHPCA)\n\nFor additional details about the program\, please visit the summit website. \nWe hope you and your colleagues will join us for what is anticipated to be an outstanding educational event and an opportunity to engage with well renowned international speakers with expertise in gynecologic oncology. \nPlease share this communication and invite all your colleagues who are involved in the care of women with gynecologic malignancies and encourage them to join us. \nAdvanced registration is required\, please visit the website and complete your registration today! \nWe look forward to seeing you in April! \nKeiichi Fujiwara\, MD\, PhD\nIGCS President \nDilyara Kaidarova\, MD\, PhD\nIGCS Board Member \nSophia Michaelson\, PhD\nExecutive Director\, American Eurasian Cancer Alliance
URL:https://igcs.org/event/eurasian-summit-modern-approach-in-management-of-gynecological-tumors/
LOCATION:Almaty\, Kazakhstan\, Almaty\, Kazakhstan
CATEGORIES:Global Events,IGCS Collaborative Events
ATTACH;FMTTYPE=image/jpeg:https://igcs.org/wp-content/uploads/2022/12/image-20-12-22-06-40.jpeg
END:VEVENT
BEGIN:VEVENT
DTSTART;VALUE=DATE:20230426
DTEND;VALUE=DATE:20230430
DTSTAMP:20260421T060545
CREATED:20230126T185205Z
LAST-MODIFIED:20230126T185205Z
UID:63892-1682467200-1682812799@igcs.org
SUMMARY:12th International Charité Mayo Conference
DESCRIPTION:12th International Charité Mayo Conference\nGlobal Perspectives and Future Directions in Women’s Cancer\nApril 26–29\, 2023\nBERLIN (Germany) \nThe conference will feature the hottest topics in gynecological oncology including 12 hours of live surgeries\, debates\, exclusive master workshops\, cadaver courses and international panel discussions – presented by renowned experts from all over the world. \nThe program topics are just out now! (you can find it HERE.) \nSECURE ONE OF THE LIMITED TICKETS!\nRegistration and all information on: www.charite-mayo.de \nCALL FOR ABSTRACTS:\nIn 2023 there will be a big poster exhibition where you can present your scientific work on women’s cancer. Take part and submit an abstract!
URL:https://igcs.org/event/12th-international-charite-mayo-conference/
LOCATION:Berlin\, Germany\, Berlin\, Germany
CATEGORIES:Global Events
END:VEVENT
BEGIN:VEVENT
DTSTART;VALUE=DATE:20230427
DTEND;VALUE=DATE:20230429
DTSTAMP:20260421T060545
CREATED:20230126T202042Z
LAST-MODIFIED:20230126T202101Z
UID:63910-1682553600-1682726399@igcs.org
SUMMARY:GOC 23rd Continuing Professional Development Meeting
DESCRIPTION:The GOC Executive Committee together with the CPD Program Planning Committee are proud to announce that our 23rd Annual Continuing Professional Development meeting will take place in Toronto\, Ontario from Thursday\, April 27th to Friday\, April 28th\, 2023\, at the Sheraton Centre Toronto Hotel. \n  \nView the agenda
URL:https://igcs.org/event/goc-23rd-continuing-professional-development-meeting/
CATEGORIES:Global Events
ATTACH;FMTTYPE=image/png:https://igcs.org/wp-content/uploads/2023/01/Screenshot-2023-01-26-141834.png
END:VEVENT
BEGIN:VEVENT
DTSTART;TZID=America/Chicago:20230427T070000
DTEND;TZID=America/Chicago:20230427T080000
DTSTAMP:20260421T060545
CREATED:20230420T201112Z
LAST-MODIFIED:20230420T201113Z
UID:65110-1682578800-1682582400@igcs.org
SUMMARY:Rad Onc ECHO
DESCRIPTION:Radiation Oncology ECHO \nThursday\, April 27\, 2023\n7:00 AM UTC (See all time zones)\n\n\n\n\n\n\n\n\n\n\n\nRegister Here\n\n\n\n\n\n\n\n\n\n\n\n\n\n\nRadiation oncologist experts provide advice for patient case on recurrent endometrial cancer presented by Dr. Nanise Sikiti of Fiji. Session will include case presentation\, distillation\, panel discussion\, and Q&A.
URL:https://igcs.org/event/rad-onc-echo/
LOCATION:Zoom Video Conference\, United States
CATEGORIES:Global Events,IGCS Hosted Events
ATTACH;FMTTYPE=image/png:https://igcs.org/wp-content/uploads/2023/04/Educational-Webinars-FA-1000x564-1.png
END:VEVENT
END:VCALENDAR