BEGIN:VCALENDAR
VERSION:2.0
PRODID:-//IGCS - ECPv6.15.20//NONSGML v1.0//EN
CALSCALE:GREGORIAN
METHOD:PUBLISH
X-WR-CALNAME:IGCS
X-ORIGINAL-URL:https://igcs.org
X-WR-CALDESC:Events for IGCS
REFRESH-INTERVAL;VALUE=DURATION:PT1H
X-Robots-Tag:noindex
X-PUBLISHED-TTL:PT1H
BEGIN:VTIMEZONE
TZID:America/Chicago
BEGIN:DAYLIGHT
TZOFFSETFROM:-0600
TZOFFSETTO:-0500
TZNAME:CDT
DTSTART:20230312T080000
END:DAYLIGHT
BEGIN:STANDARD
TZOFFSETFROM:-0500
TZOFFSETTO:-0600
TZNAME:CST
DTSTART:20231105T070000
END:STANDARD
BEGIN:DAYLIGHT
TZOFFSETFROM:-0600
TZOFFSETTO:-0500
TZNAME:CDT
DTSTART:20240310T080000
END:DAYLIGHT
BEGIN:STANDARD
TZOFFSETFROM:-0500
TZOFFSETTO:-0600
TZNAME:CST
DTSTART:20241103T070000
END:STANDARD
BEGIN:DAYLIGHT
TZOFFSETFROM:-0600
TZOFFSETTO:-0500
TZNAME:CDT
DTSTART:20250309T080000
END:DAYLIGHT
BEGIN:STANDARD
TZOFFSETFROM:-0500
TZOFFSETTO:-0600
TZNAME:CST
DTSTART:20251102T070000
END:STANDARD
END:VTIMEZONE
BEGIN:VTIMEZONE
TZID:UTC
BEGIN:STANDARD
TZOFFSETFROM:+0000
TZOFFSETTO:+0000
TZNAME:UTC
DTSTART:20230101T000000
END:STANDARD
END:VTIMEZONE
BEGIN:VEVENT
DTSTART;VALUE=DATE:20240301
DTEND;VALUE=DATE:20240302
DTSTAMP:20260422T112014
CREATED:20240206T182136Z
LAST-MODIFIED:20240206T182136Z
UID:67294-1709251200-1709337599@igcs.org
SUMMARY:17th Gynaecological Cancer Symposium on Uterine Cancers
DESCRIPTION:Program
URL:https://igcs.org/event/17th-gynaecological-cancer-symposium-on-uterine-cancers/
END:VEVENT
BEGIN:VEVENT
DTSTART;TZID=UTC:20240304T123000
DTEND;TZID=UTC:20240304T133000
DTSTAMP:20260422T112014
CREATED:20240220T162004Z
LAST-MODIFIED:20240220T193704Z
UID:67388-1709555400-1709559000@igcs.org
SUMMARY:Refresher on Selecting Genetic Testing for Ovarian Cancer Treatment Decisions
DESCRIPTION:March 4\, 2024 at\n12:30 PM UTC\nsee all time zones\nDuration approximately 30 minutes \nThis webinar will include faculty discussing the practicalities of choosing available tumor and germline testing options along with treatment options. Attendees will learn how to how to utilize HRD testing in ovarian cancer treatment decisions.
URL:https://igcs.org/event/refresher-on-selecting-genetic-testing-for-ovarian-cancer-treatment-decisions/
LOCATION:Zoom Video Conference\, United States
CATEGORIES:Global Events,IGCS Hosted Events
ATTACH;FMTTYPE=image/png:https://igcs.org/wp-content/uploads/2024/02/Genetics-Webinar-Event.png
END:VEVENT
BEGIN:VEVENT
DTSTART;VALUE=DATE:20240305
DTEND;VALUE=DATE:20240308
DTSTAMP:20260422T112014
CREATED:20230925T191449Z
LAST-MODIFIED:20230925T191449Z
UID:66336-1709596800-1709855999@igcs.org
SUMMARY:Endoscopy Workshop 2024
DESCRIPTION:The 17th training course of Gynecologic Oncology Unit-Mansoura University \nMinimally invasive surgery in Gynaecologic Oncology \n  \nendoscopy workshop\,2024
URL:https://igcs.org/event/endoscopy-workshop-2024/
CATEGORIES:Global Events
END:VEVENT
BEGIN:VEVENT
DTSTART;VALUE=DATE:20240318
DTEND;VALUE=DATE:20240321
DTSTAMP:20260422T112014
CREATED:20230925T192406Z
LAST-MODIFIED:20230925T192531Z
UID:66345-1710720000-1710979199@igcs.org
SUMMARY:Leipzig School of Radical Pelvic Surgery
DESCRIPTION:Leipzig School of Radical Pelvic Surgery:\nMarch 18 – 20\, August 26 – 28 & September 02 – 04 2024. \nThe Leipzig School was established in 2005 by Michael Höckel\, M.D.\, Ph.D. with the objective to provide insights concerning locoregional tumor spread deduced from embryonic development and to demonstrate their translation into a new principle of surgical radicality for the treatment of lower female genital tract cancer. \nThe courses are addressed to advanced gynecologic surgeons but also to colleagues that are interested in getting to know the new operations. \nThe courses comprise lectures\, anatomical workshops and live surgery in an interactive format for a small group of international participants. The limited number of attending colleagues ensures intensive learning and in-depth discussion with the faculty members. \nAs the Central Event Management of the University Hospital Leipzig\, we are supporting Bahriye Aktas\, M.D. and Michael Höckel\, M.D.\, Ph.D. of the Department of Gynecology\, in the preparation and implementation of this event. \nRegistration website: http://www.ukl-live.de/leipzig-school
URL:https://igcs.org/event/leipzig-school-of-radical-pelvic-surgery/
CATEGORIES:Global Events
END:VEVENT
BEGIN:VEVENT
DTSTART;VALUE=DATE:20240322
DTEND;VALUE=DATE:20240324
DTSTAMP:20260422T112014
CREATED:20240206T180827Z
LAST-MODIFIED:20240206T180837Z
UID:67283-1711065600-1711238399@igcs.org
SUMMARY:Latin America Gynecological Oncology Symposium
DESCRIPTION:
URL:https://igcs.org/event/latin-america-gynecological-oncology-symposium/
ATTACH;FMTTYPE=image/jpeg:https://igcs.org/wp-content/uploads/2024/02/CardIngles-GINECO24.jpg
END:VEVENT
BEGIN:VEVENT
DTSTART;VALUE=DATE:20240322
DTEND;VALUE=DATE:20240323
DTSTAMP:20260422T112014
CREATED:20240306T181427Z
LAST-MODIFIED:20240306T181457Z
UID:67560-1711065600-1711151999@igcs.org
SUMMARY:March Journal Club 2024
DESCRIPTION:March special issue: Surgery for gynecological cancers in the era of personalized medicine \nGuest editors: Christina Fotopoulou\, Ane Gerda Eriksson\, Glauco Baiocchi\, and Oliver Zivanovic \nMarch 22 at 12:00 PM CT
URL:https://igcs.org/event/march-journal-club-2024/
LOCATION:Zoom Video Conference\, United States
CATEGORIES:Global Events,IGCS Collaborative Events
ATTACH;FMTTYPE=image/png:https://igcs.org/wp-content/uploads/2024/03/thumbnail_image001.png
END:VEVENT
END:VCALENDAR