BEGIN:VCALENDAR
VERSION:2.0
PRODID:-//IGCS - ECPv6.15.20//NONSGML v1.0//EN
CALSCALE:GREGORIAN
METHOD:PUBLISH
X-ORIGINAL-URL:https://igcs.org
X-WR-CALDESC:Events for IGCS
REFRESH-INTERVAL;VALUE=DURATION:PT1H
X-Robots-Tag:noindex
X-PUBLISHED-TTL:PT1H
BEGIN:VTIMEZONE
TZID:America/Chicago
BEGIN:DAYLIGHT
TZOFFSETFROM:-0600
TZOFFSETTO:-0500
TZNAME:CDT
DTSTART:20230312T080000
END:DAYLIGHT
BEGIN:STANDARD
TZOFFSETFROM:-0500
TZOFFSETTO:-0600
TZNAME:CST
DTSTART:20231105T070000
END:STANDARD
BEGIN:DAYLIGHT
TZOFFSETFROM:-0600
TZOFFSETTO:-0500
TZNAME:CDT
DTSTART:20240310T080000
END:DAYLIGHT
BEGIN:STANDARD
TZOFFSETFROM:-0500
TZOFFSETTO:-0600
TZNAME:CST
DTSTART:20241103T070000
END:STANDARD
BEGIN:DAYLIGHT
TZOFFSETFROM:-0600
TZOFFSETTO:-0500
TZNAME:CDT
DTSTART:20250309T080000
END:DAYLIGHT
BEGIN:STANDARD
TZOFFSETFROM:-0500
TZOFFSETTO:-0600
TZNAME:CST
DTSTART:20251102T070000
END:STANDARD
END:VTIMEZONE
BEGIN:VEVENT
DTSTART;VALUE=DATE:20241016
DTEND;VALUE=DATE:20241019
DTSTAMP:20260422T222020
CREATED:20240212T145321Z
LAST-MODIFIED:20240212T145347Z
UID:67373-1729036800-1729295999@igcs.org
SUMMARY:IGCS 2024
DESCRIPTION:It is our great pleasure to invite you to the upcoming annual global meeting of the International Gynecologic Cancer Society (IGCS) in Dublin\, Ireland on October 16 – 18\, 2024. \nThe IGCS 2024 Scientific Program Committee\, led by co-chairs Mansoor Mirza\, MD (Denmark) and Sudha Sundar\, MD (United Kingdom) are developing an interdisciplinary program with workgroups representing pathology\, radiation\, medical oncology and more. The meeting will encompass a diverse range of topics and perspectives\, ensuring an in-depth exchange of ideas and knowledge of gynecologic oncology treatment including surgical oncology\, medical oncology\, radiation oncology\, pathology\, nursing\, palliative care\, and global health. \nConnect with global leaders and colleagues\, stay up to date on cutting-edge science\, contribute your research by submitting an abstract\, and participate in networking opportunities at IGCS 2024. Explore the vibrant city of Dublin with your friends and colleagues.
URL:https://igcs.org/event/igcs-2024/
LOCATION:Convention Centre Dublin\, Dublin\, Ireland
CATEGORIES:Global Events,IGCS Collaborative Events,IGCS Hosted Events
ATTACH;FMTTYPE=image/png:https://igcs.org/wp-content/uploads/2024/01/Untitled-design-11.png
END:VEVENT
BEGIN:VEVENT
DTSTART;VALUE=DATE:20241022
DTEND;VALUE=DATE:20241026
DTSTAMP:20260422T222020
CREATED:20240618T135622Z
LAST-MODIFIED:20240618T140607Z
UID:68367-1729555200-1729900799@igcs.org
SUMMARY:ISSTD Meeting Lyon 2024
DESCRIPTION:The French Reference Center for Trophoblastic Disease\nISSTD Meeting Lyon 2024 \nMark your calendars\, the French Reference Center for Trophoblastic Disease is honored to host the XXII World Congress on Gestational Trophoblastic Diseases at the Palais Hirsch in Lyon\, France\, from the 22nd to 25th October 2024. Register Here. \nSave the date and get ready to be inspired with an original educational and research experience to advance your knowledge and clinical practice in gestational trophoblastic diseases diagnosis and treatment.
URL:https://igcs.org/event/isstd-meeting-lyon-2024/
LOCATION:Lyon\, France
ATTACH;FMTTYPE=image/jpeg:https://igcs.org/wp-content/uploads/2024/06/e7c93dc3-b5d1-4684-9734-f3cb834b70ce.jpg
END:VEVENT
BEGIN:VEVENT
DTSTART;VALUE=DATE:20241023
DTEND;VALUE=DATE:20241026
DTSTAMP:20260422T222020
CREATED:20240206T181157Z
LAST-MODIFIED:20240206T181859Z
UID:67286-1729641600-1729900799@igcs.org
SUMMARY:54th Annual International Continence Society Meeting
DESCRIPTION:
URL:https://igcs.org/event/54th-annual-international-continence-society-meeting/
CATEGORIES:Global Events
ATTACH;FMTTYPE=image/png:https://igcs.org/wp-content/uploads/2024/02/Screenshot-2024-02-06-121126.png
END:VEVENT
BEGIN:VEVENT
DTSTART;VALUE=DATE:20241024
DTEND;VALUE=DATE:20241026
DTSTAMP:20260422T222020
CREATED:20240912T184401Z
LAST-MODIFIED:20240912T184450Z
UID:69212-1729728000-1729900799@igcs.org
SUMMARY:9th MD Anderson Cancer Center International Meeting In Gynecologic Oncology
DESCRIPTION:Website \nProgram
URL:https://igcs.org/event/9th-md-anderson-cancer-center-international-meeting-in-gynecologic-oncology/
LOCATION:Auditorio Fundación MD Anderson Cancer Center Spain\, C/ Arturo Soria 270\, Madrid\, Spain
ATTACH;FMTTYPE=image/png:https://igcs.org/wp-content/uploads/2024/09/MD-ANderson.png
END:VEVENT
END:VCALENDAR