BEGIN:VCALENDAR
VERSION:2.0
PRODID:-//IGCS - ECPv6.15.20//NONSGML v1.0//EN
CALSCALE:GREGORIAN
METHOD:PUBLISH
X-WR-CALNAME:IGCS
X-ORIGINAL-URL:https://igcs.org
X-WR-CALDESC:Events for IGCS
REFRESH-INTERVAL;VALUE=DURATION:PT1H
X-Robots-Tag:noindex
X-PUBLISHED-TTL:PT1H
BEGIN:VTIMEZONE
TZID:America/Chicago
BEGIN:DAYLIGHT
TZOFFSETFROM:-0600
TZOFFSETTO:-0500
TZNAME:CDT
DTSTART:20240310T080000
END:DAYLIGHT
BEGIN:STANDARD
TZOFFSETFROM:-0500
TZOFFSETTO:-0600
TZNAME:CST
DTSTART:20241103T070000
END:STANDARD
BEGIN:DAYLIGHT
TZOFFSETFROM:-0600
TZOFFSETTO:-0500
TZNAME:CDT
DTSTART:20250309T080000
END:DAYLIGHT
BEGIN:STANDARD
TZOFFSETFROM:-0500
TZOFFSETTO:-0600
TZNAME:CST
DTSTART:20251102T070000
END:STANDARD
BEGIN:DAYLIGHT
TZOFFSETFROM:-0600
TZOFFSETTO:-0500
TZNAME:CDT
DTSTART:20260308T080000
END:DAYLIGHT
BEGIN:STANDARD
TZOFFSETFROM:-0500
TZOFFSETTO:-0600
TZNAME:CST
DTSTART:20261101T070000
END:STANDARD
END:VTIMEZONE
BEGIN:VEVENT
DTSTART;VALUE=DATE:20250115
DTEND;VALUE=DATE:20250116
DTSTAMP:20260422T170847
CREATED:20241204T193205Z
LAST-MODIFIED:20241204T193259Z
UID:69764-1736899200-1736985599@igcs.org
SUMMARY:January 2025 Journal Club
DESCRIPTION:Join us! January Journal Club \nThis session will explore the lead article in our January issue: Minimally invasive compared to open surgery in patients with low-risk cervical cancer following simple hysterectomy: an exploratory analysis from the GCIG/CCTG CX.5/SHAPE trial \nWhen? January 15\, 2025 at 11:00 AM CT | 6:00 PM CET \nThe featured discussant is Marie Plante lead author of the article\, who will be joined by IJGC Editor-in-Chief Dr. Pedro Ramirez and Social Media Editors Drs. Aarthi S. Jayraj and Andreina Fernandes. \nZOOM LINK
URL:https://igcs.org/event/january-2025-journal-club/
LOCATION:Zoom Video Conference\, United States
CATEGORIES:Global Events,IGCS Collaborative Events
ATTACH;FMTTYPE=image/png:https://igcs.org/wp-content/uploads/2024/12/Journal-Club-4.png
END:VEVENT
BEGIN:VEVENT
DTSTART;VALUE=DATE:20250123
DTEND;VALUE=DATE:20250125
DTSTAMP:20260422T170847
CREATED:20241114T194040Z
LAST-MODIFIED:20241114T194040Z
UID:69651-1737590400-1737763199@igcs.org
SUMMARY:BGIICC 2025
DESCRIPTION:Welcome to the 17th BGICC 2025  breast Gynecological & Immunooncology International Cancer Conference\, the largest and most prestigious cancer conference in Africa and the Middle East. \nI invite you all to attend the rich content lectures and participate in the workshop and courses. \nThe conference will be held on 23th-24th January 2025  in Hilton Heliopolis Hotel Cairo \, Egypt. \n  \nhttps://bgicc.net/  \n 
URL:https://igcs.org/event/bgiicc-2025/
ATTACH;FMTTYPE=image/png:https://igcs.org/wp-content/uploads/2024/11/Screenshot-2024-11-14-134002.png
END:VEVENT
END:VCALENDAR