BEGIN:VCALENDAR
VERSION:2.0
PRODID:-//IGCS - ECPv6.15.20//NONSGML v1.0//EN
CALSCALE:GREGORIAN
METHOD:PUBLISH
X-WR-CALNAME:IGCS
X-ORIGINAL-URL:https://igcs.org
X-WR-CALDESC:Events for IGCS
REFRESH-INTERVAL;VALUE=DURATION:PT1H
X-Robots-Tag:noindex
X-PUBLISHED-TTL:PT1H
BEGIN:VTIMEZONE
TZID:America/Chicago
BEGIN:DAYLIGHT
TZOFFSETFROM:-0600
TZOFFSETTO:-0500
TZNAME:CDT
DTSTART:20240310T080000
END:DAYLIGHT
BEGIN:STANDARD
TZOFFSETFROM:-0500
TZOFFSETTO:-0600
TZNAME:CST
DTSTART:20241103T070000
END:STANDARD
BEGIN:DAYLIGHT
TZOFFSETFROM:-0600
TZOFFSETTO:-0500
TZNAME:CDT
DTSTART:20250309T080000
END:DAYLIGHT
BEGIN:STANDARD
TZOFFSETFROM:-0500
TZOFFSETTO:-0600
TZNAME:CST
DTSTART:20251102T070000
END:STANDARD
BEGIN:DAYLIGHT
TZOFFSETFROM:-0600
TZOFFSETTO:-0500
TZNAME:CDT
DTSTART:20260308T080000
END:DAYLIGHT
BEGIN:STANDARD
TZOFFSETFROM:-0500
TZOFFSETTO:-0600
TZNAME:CST
DTSTART:20261101T070000
END:STANDARD
END:VTIMEZONE
BEGIN:VEVENT
DTSTART;VALUE=DATE:20250228
DTEND;VALUE=DATE:20250301
DTSTAMP:20260422T152337
CREATED:20240306T180645Z
LAST-MODIFIED:20240626T164333Z
UID:67554-1740700800-1740787199@igcs.org
SUMMARY:18th DELTA Gynaecological Oncology Symposium
DESCRIPTION:General Info \nWho should attend: Gynaecology Trainees\, Consultants\, Nurses\, CNS Oncology Trainees\, Consultants with interest in Gynaecology\, General Practitioners\, Medical / Nursing students \nCourse fee: FREE \nLocation: Virtual – via Microsoft Teams \nRegister Here
URL:https://igcs.org/event/18th-delta-gynaecological-oncology-symposium/
ATTACH;FMTTYPE=image/jpeg:https://igcs.org/wp-content/uploads/2024/03/18th-DELTA-Gynaecological-Oncology-Symposium-2025.jpg
END:VEVENT
BEGIN:VEVENT
DTSTART;VALUE=DATE:20250228
DTEND;VALUE=DATE:20250301
DTSTAMP:20260422T152337
CREATED:20241114T194931Z
LAST-MODIFIED:20241114T194931Z
UID:69660-1740700800-1740787199@igcs.org
SUMMARY:18th Gynaecological Cancer Symposium - Delta Centre
DESCRIPTION:Register Here \nView Program
URL:https://igcs.org/event/18th-gynaecological-cancer-symposium-delta-centre/
ATTACH;FMTTYPE=image/png:https://igcs.org/wp-content/uploads/2024/11/Screenshot-2024-11-14-134914.png
END:VEVENT
END:VCALENDAR